BEGIN:VCALENDAR
VERSION:2.0
PRODID:-//Huis van de wijk Noord - ECPv6.15.20//NONSGML v1.0//EN
CALSCALE:GREGORIAN
METHOD:PUBLISH
X-WR-CALNAME:Huis van de wijk Noord
X-ORIGINAL-URL:https://huisvdwn.webburo.org
X-WR-CALDESC:Evenementen voor Huis van de wijk Noord
REFRESH-INTERVAL;VALUE=DURATION:PT1H
X-Robots-Tag:noindex
X-PUBLISHED-TTL:PT1H
BEGIN:VTIMEZONE
TZID:Europe/Amsterdam
BEGIN:DAYLIGHT
TZOFFSETFROM:+0100
TZOFFSETTO:+0200
TZNAME:CEST
DTSTART:20220327T010000
END:DAYLIGHT
BEGIN:STANDARD
TZOFFSETFROM:+0200
TZOFFSETTO:+0100
TZNAME:CET
DTSTART:20221030T010000
END:STANDARD
BEGIN:DAYLIGHT
TZOFFSETFROM:+0100
TZOFFSETTO:+0200
TZNAME:CEST
DTSTART:20230326T010000
END:DAYLIGHT
BEGIN:STANDARD
TZOFFSETFROM:+0200
TZOFFSETTO:+0100
TZNAME:CET
DTSTART:20231029T010000
END:STANDARD
BEGIN:DAYLIGHT
TZOFFSETFROM:+0100
TZOFFSETTO:+0200
TZNAME:CEST
DTSTART:20240331T010000
END:DAYLIGHT
BEGIN:STANDARD
TZOFFSETFROM:+0200
TZOFFSETTO:+0100
TZNAME:CET
DTSTART:20241027T010000
END:STANDARD
BEGIN:DAYLIGHT
TZOFFSETFROM:+0100
TZOFFSETTO:+0200
TZNAME:CEST
DTSTART:20250330T010000
END:DAYLIGHT
BEGIN:STANDARD
TZOFFSETFROM:+0200
TZOFFSETTO:+0100
TZNAME:CET
DTSTART:20251026T010000
END:STANDARD
END:VTIMEZONE
BEGIN:VEVENT
DTSTART;TZID=Europe/Amsterdam:20231123T113000
DTEND;TZID=Europe/Amsterdam:20231123T170000
DTSTAMP:20260423T154154
CREATED:20250106T101953Z
LAST-MODIFIED:20250106T101953Z
UID:13601-1700739000-1700758800@huisvdwn.webburo.org
SUMMARY:Hulp bij digitaal
DESCRIPTION:Oefen uur vragen over de digitale overheid (IDO)\, internet\, e-mail\, en je computer\, tablet of smartphone.
URL:https://huisvdwn.webburo.org/activiteit/hulp-bij-digitaal/
LOCATION:Waterlandplein
CATEGORIES:Info & hulp
ATTACH;FMTTYPE=image/jpeg:https://huisvdwn.webburo.org/wp-content/uploads/2023/11/nordwood-themes-yyMJNPgQ-X8-unsplash-scaled.jpg
ORGANIZER;CN="Oba":MAILTO:waterlandplein@oba.nl
END:VEVENT
BEGIN:VEVENT
DTSTART;TZID=Europe/Amsterdam:20231123T120000
DTEND;TZID=Europe/Amsterdam:20231123T160000
DTSTAMP:20260423T154154
CREATED:20250106T101953Z
LAST-MODIFIED:20250106T101953Z
UID:13836-1700740800-1700755200@huisvdwn.webburo.org
SUMMARY:Klaverjassen
DESCRIPTION:De gezelligste Klaverjasclub in de Banne: Klaverjasclub de Banne! Onder leiding van Bart kunnen s voor een kleine bijdrage wekelijks gezellig klaverjassen\, en onder het genot van een lekker hapje en drankje!
URL:https://huisvdwn.webburo.org/activiteit/klaverjassen-2/
LOCATION:De Banne
CATEGORIES:Spel & samenzijn
ATTACH;FMTTYPE=image/jpeg:https://huisvdwn.webburo.org/wp-content/uploads/2023/06/klaverjassen.jpg
END:VEVENT
BEGIN:VEVENT
DTSTART;TZID=Europe/Amsterdam:20231120T120000
DTEND;TZID=Europe/Amsterdam:20231120T200000
DTSTAMP:20260423T154154
CREATED:20250106T102141Z
LAST-MODIFIED:20250106T102141Z
UID:13741-1700481600-1700510400@huisvdwn.webburo.org
SUMMARY:Surinaamse Eettafel
DESCRIPTION:Vers gemaakte Surinaamse maaltijden door buurtbewoner Marsha!
URL:https://huisvdwn.webburo.org/activiteit/surinaamse-eettafel/
LOCATION:De Banne
CATEGORIES:Eten
ATTACH;FMTTYPE=image/jpeg:https://huisvdwn.webburo.org/wp-content/uploads/2023/11/DSC_0358-1200x800-1.jpg
END:VEVENT
BEGIN:VEVENT
DTSTART;TZID=Europe/Amsterdam:20231123T130000
DTEND;TZID=Europe/Amsterdam:20231123T160000
DTSTAMP:20260423T154154
CREATED:20250106T101953Z
LAST-MODIFIED:20250106T101953Z
UID:13839-1700744400-1700755200@huisvdwn.webburo.org
SUMMARY:Creaclub - Roads
DESCRIPTION:Elke donderdag komen we samen om mooie en unieke creaties te maken. Onder begeleiding van Kavita worden de mooiste creaties gemaakt!
URL:https://huisvdwn.webburo.org/activiteit/creaclub-roads/
LOCATION:De Banne
CATEGORIES:Creatief
ATTACH;FMTTYPE=image/jpeg:https://huisvdwn.webburo.org/wp-content/uploads/2023/11/20230329_0281-scaled.jpg
END:VEVENT
BEGIN:VEVENT
DTSTART;TZID=Europe/Amsterdam:20231123T130000
DTEND;TZID=Europe/Amsterdam:20231123T160000
DTSTAMP:20260423T154154
CREATED:20250106T101953Z
LAST-MODIFIED:20250106T101953Z
UID:13620-1700744400-1700755200@huisvdwn.webburo.org
SUMMARY:Op de koffie bij Shane & Kris
DESCRIPTION:Kom gezellig koffie drinken en spelletjes spelen
URL:https://huisvdwn.webburo.org/activiteit/op-de-koffie/
LOCATION:Waterlandplein
CATEGORIES:Spel & samenzijn
ATTACH;FMTTYPE=image/jpeg:https://huisvdwn.webburo.org/wp-content/uploads/2023/06/koffie_.jpg
END:VEVENT
BEGIN:VEVENT
DTSTART;TZID=Europe/Amsterdam:20231123T130000
DTEND;TZID=Europe/Amsterdam:20231123T170000
DTSTAMP:20260423T154154
CREATED:20250106T101952Z
LAST-MODIFIED:20250106T101952Z
UID:13619-1700744400-1700758800@huisvdwn.webburo.org
SUMMARY:Spreekuur Vrijwilligers Centrale Amsterdam (VCA)
DESCRIPTION:Ben je opzoek baar vrijwilligerswerk? Bel voor een afspraak met Wendy Post.
URL:https://huisvdwn.webburo.org/activiteit/spreekuur-vca/
LOCATION:Waterlandplein
CATEGORIES:Info & hulp
ATTACH;FMTTYPE=image/jpeg:https://huisvdwn.webburo.org/wp-content/uploads/2023/06/Wegwijssalon.jpg
END:VEVENT
BEGIN:VEVENT
DTSTART;TZID=Europe/Amsterdam:20231109T150000
DTEND;TZID=Europe/Amsterdam:20231109T160000
DTSTAMP:20260423T154154
CREATED:20250106T102143Z
LAST-MODIFIED:20250106T102143Z
UID:12698-1699542000-1699545600@huisvdwn.webburo.org
SUMMARY:Praat Nederlands Met Me!
DESCRIPTION:Gezellig met elkaar om tafel\, om elkaar te leren kennen en om samen te kletsen.
URL:https://huisvdwn.webburo.org/activiteit/praat-nederlands-met-me/
LOCATION:De Meeuw
CATEGORIES:Info & hulp
ATTACH;FMTTYPE=image/jpeg:https://huisvdwn.webburo.org/wp-content/uploads/2023/06/20230321_0047.jpg
END:VEVENT
BEGIN:VEVENT
DTSTART;TZID=Europe/Amsterdam:20231123T151500
DTEND;TZID=Europe/Amsterdam:20231123T171500
DTSTAMP:20260423T154154
CREATED:20250106T101952Z
LAST-MODIFIED:20250106T101952Z
UID:13251-1700752500-1700759700@huisvdwn.webburo.org
SUMMARY:Filmclub MW
DESCRIPTION:Start begin november.\nAanmelden via Stichting Wijsneus.
URL:https://huisvdwn.webburo.org/activiteit/filmclub/
LOCATION:Huis van de Wijk De Evenaar\, Kometensingel 189\, Amsterdam\, 1033 BE
CATEGORIES:Jeugd
ATTACH;FMTTYPE=image/jpeg:https://huisvdwn.webburo.org/wp-content/uploads/2023/11/NurLimonade-Mediamix-1030x773-1-e1700233045220.jpg
END:VEVENT
BEGIN:VEVENT
DTSTART;TZID=Europe/Amsterdam:20231123T153000
DTEND;TZID=Europe/Amsterdam:20231123T163000
DTSTAMP:20260423T154154
CREATED:20250106T101952Z
LAST-MODIFIED:20250106T101952Z
UID:13248-1700753400-1700757000@huisvdwn.webburo.org
SUMMARY:Klassiek ballet (7-10 jr)
DESCRIPTION:Klassiek ballet gegeven door ervaren en geschoolde docenten.
URL:https://huisvdwn.webburo.org/activiteit/klassiek-ballet2/
LOCATION:Huis van de Wijk De Evenaar\, Kometensingel 189\, Amsterdam\, 1033 BE
ATTACH;FMTTYPE=image/jpeg:https://huisvdwn.webburo.org/wp-content/uploads/2023/06/klassiek-ballet.jpg
END:VEVENT
BEGIN:VEVENT
DTSTART;TZID=Europe/Amsterdam:20231123T153000
DTEND;TZID=Europe/Amsterdam:20231123T203000
DTSTAMP:20260423T154154
CREATED:20250106T101952Z
LAST-MODIFIED:20250106T101952Z
UID:13840-1700753400-1700771400@huisvdwn.webburo.org
SUMMARY:Gymnastiek en turnvereniging TONIDO
DESCRIPTION:Turnvereniging Tonido geeft wekelijks turnlessen aan jong en oud! Wilt u kind turnen bezoek dan hun website voor meer informatie over de lessen!
URL:https://huisvdwn.webburo.org/activiteit/turnen-2/
LOCATION:De Banne
CATEGORIES:Jeugd
ATTACH;FMTTYPE=image/jpeg:https://huisvdwn.webburo.org/wp-content/uploads/2023/11/88228305_1440234162818133_7367489025843658752_n-e1700399624198.jpg
ORGANIZER;CN="Tonido":MAILTO:info@tonidoamsterdamnoord.nl
END:VEVENT
BEGIN:VEVENT
DTSTART;TZID=Europe/Amsterdam:20231123T163000
DTEND;TZID=Europe/Amsterdam:20231123T180000
DTSTAMP:20260423T154154
CREATED:20250106T101952Z
LAST-MODIFIED:20250106T101952Z
UID:13252-1700757000-1700762400@huisvdwn.webburo.org
SUMMARY:Demoteam B-Flexx
DESCRIPTION:
URL:https://huisvdwn.webburo.org/activiteit/demoteam-b-flexx/
LOCATION:Huis van de Wijk De Evenaar\, Kometensingel 189\, Amsterdam\, 1033 BE
CATEGORIES:Jeugd
ATTACH;FMTTYPE=image/jpeg:https://huisvdwn.webburo.org/wp-content/uploads/2023/11/279438961_5125517450841448_6159944316159146546_n.jpg
END:VEVENT
BEGIN:VEVENT
DTSTART;TZID=Europe/Amsterdam:20240516T173000
DTEND;TZID=Europe/Amsterdam:20240516T203000
DTSTAMP:20260423T154154
CREATED:20250106T101630Z
LAST-MODIFIED:20250106T101630Z
UID:31166-1715880600-1715891400@huisvdwn.webburo.org
SUMMARY:Akros
DESCRIPTION:Lessen Nederlands voor startende Nederlanders.
URL:https://huisvdwn.webburo.org/activiteit/akros-4/
LOCATION:De Banne
CATEGORIES:Educatief
ATTACH;FMTTYPE=image/jpeg:https://huisvdwn.webburo.org/wp-content/uploads/2024/05/Akros-3.jpg
END:VEVENT
BEGIN:VEVENT
DTSTART;TZID=Europe/Amsterdam:20231123T180000
DTEND;TZID=Europe/Amsterdam:20231123T190000
DTSTAMP:20260423T154154
CREATED:20250106T101952Z
LAST-MODIFIED:20250106T101952Z
UID:13261-1700762400-1700766000@huisvdwn.webburo.org
SUMMARY:Modern (9-12 jr)
DESCRIPTION:Moderne dans voor kinderen van 9-12 jaar.
URL:https://huisvdwn.webburo.org/activiteit/modern-dans/
LOCATION:Huis van de Wijk De Evenaar\, Kometensingel 189\, Amsterdam\, 1033 BE
CATEGORIES:Jeugd
ATTACH;FMTTYPE=image/jpeg:https://huisvdwn.webburo.org/wp-content/uploads/2023/11/369905378_764474692349087_1921031851008086962_n-e1700234746566.jpg
END:VEVENT
BEGIN:VEVENT
DTSTART;TZID=Europe/Amsterdam:20231123T190000
DTEND;TZID=Europe/Amsterdam:20231123T200000
DTSTAMP:20260423T154154
CREATED:20250106T101952Z
LAST-MODIFIED:20250106T101952Z
UID:13265-1700766000-1700769600@huisvdwn.webburo.org
SUMMARY:Modern 12+
DESCRIPTION:Moderne dans voor kinderen van 12+
URL:https://huisvdwn.webburo.org/activiteit/modern-12/
LOCATION:Huis van de Wijk De Evenaar\, Kometensingel 189\, Amsterdam\, 1033 BE
CATEGORIES:Jeugd
ATTACH;FMTTYPE=image/jpeg:https://huisvdwn.webburo.org/wp-content/uploads/2023/11/369719508_766013088861914_7057121032394769440_n-e1700234852611.jpg
END:VEVENT
BEGIN:VEVENT
DTSTART;TZID=Europe/Amsterdam:20231109T193000
DTEND;TZID=Europe/Amsterdam:20231109T220000
DTSTAMP:20260423T154154
CREATED:20250106T102143Z
LAST-MODIFIED:20250106T102143Z
UID:12704-1699558200-1699567200@huisvdwn.webburo.org
SUMMARY:Meeuwenkoor
DESCRIPTION:Kom je meezingen in het Meeuwenkoor? onder begeleiding van een dirigent zingen we Engels- en Nederlandstalige liederen.
URL:https://huisvdwn.webburo.org/activiteit/meeuwenkoor/
LOCATION:De Meeuw
CATEGORIES:Creatief
ATTACH;FMTTYPE=image/jpeg:https://huisvdwn.webburo.org/wp-content/uploads/2023/06/20230309_211336-e1698599774912.jpg
END:VEVENT
BEGIN:VEVENT
DTSTART;TZID=Europe/Amsterdam:20231123T200000
DTEND;TZID=Europe/Amsterdam:20231123T204500
DTSTAMP:20260423T154154
CREATED:20250106T101951Z
LAST-MODIFIED:20250106T101951Z
UID:13275-1700769600-1700772300@huisvdwn.webburo.org
SUMMARY:Ladies Dance Basic / Jazz / Modern (volwassenen)
DESCRIPTION:Laagdrempelige les voor als je wilt beginnen met dansen. Leeftijd tussen 30 en 60 jaar.
URL:https://huisvdwn.webburo.org/activiteit/ladies-dance-basic/
LOCATION:Huis van de Wijk De Evenaar\, Kometensingel 189\, Amsterdam\, 1033 BE
CATEGORIES:Sport & beweging
ATTACH;FMTTYPE=image/jpeg:https://huisvdwn.webburo.org/wp-content/uploads/2023/06/lucas-law-8adqeHcZENI-unsplash-scaled-e1700254383850.jpg
END:VEVENT
BEGIN:VEVENT
DTSTART;TZID=Europe/Amsterdam:20231123T204500
DTEND;TZID=Europe/Amsterdam:20231123T214500
DTSTAMP:20260423T154154
CREATED:20250106T101951Z
LAST-MODIFIED:20250106T101951Z
UID:13272-1700772300-1700775900@huisvdwn.webburo.org
SUMMARY:All style karate/boksen
DESCRIPTION:
URL:https://huisvdwn.webburo.org/activiteit/karate/
LOCATION:Huis van de Wijk De Evenaar\, Kometensingel 189\, Amsterdam\, 1033 BE
CATEGORIES:Sport & beweging
ATTACH;FMTTYPE=image/jpeg:https://huisvdwn.webburo.org/wp-content/uploads/2023/11/jonathan-tomas-rX36vcriciQ-unsplash-scaled.jpg
END:VEVENT
BEGIN:VEVENT
DTSTART;TZID=Europe/Amsterdam:20240515T093000
DTEND;TZID=Europe/Amsterdam:20240515T150000
DTSTAMP:20260423T154154
CREATED:20250106T101722Z
LAST-MODIFIED:20250106T101722Z
UID:32334-1715765400-1715785200@huisvdwn.webburo.org
SUMMARY:Lunch in de Banne
DESCRIPTION:Buurtbewoner Hetty verzorgt elke woensdag en op marktdagen in het Huis van de Wijk versgemaakte hapjes. Hetty verkoopt voor een schappelijke prijs diverse broodjes zoals tosti’s\, broodje gezond\, broodje uitsmijter en soep met een broodje.
URL:https://huisvdwn.webburo.org/activiteit/lunch-in-de-banne/
LOCATION:De Banne
ATTACH;FMTTYPE=image/jpeg:https://huisvdwn.webburo.org/wp-content/uploads/2024/05/Hettys-keuken-12.jpg
END:VEVENT
BEGIN:VEVENT
DTSTART;TZID=Europe/Amsterdam:20231121T093000
DTEND;TZID=Europe/Amsterdam:20231121T103000
DTSTAMP:20260423T154154
CREATED:20250106T102058Z
LAST-MODIFIED:20250106T102058Z
UID:13754-1700559000-1700562600@huisvdwn.webburo.org
SUMMARY:B.A.S.T. (Body And Soul Training)
DESCRIPTION:Wekelijks kun je bij Sherida de Meza onder leiding van muziek en het genot van een gezonde snack meedoen aan een interactieve sportles! De lessen zijn voor vrouwen van alle leeftijden.
URL:https://huisvdwn.webburo.org/activiteit/bast/
LOCATION:De Banne
CATEGORIES:Sport & beweging
ATTACH;FMTTYPE=image/jpeg:https://huisvdwn.webburo.org/wp-content/uploads/2023/06/danielle-cerullo-3ckWUnaCxzc-unsplash-scaled.jpg
END:VEVENT
BEGIN:VEVENT
DTSTART;TZID=Europe/Amsterdam:20231103T093000
DTEND;TZID=Europe/Amsterdam:20231103T103000
DTSTAMP:20260423T154154
CREATED:20250106T102246Z
LAST-MODIFIED:20250106T102246Z
UID:12669-1699003800-1699007400@huisvdwn.webburo.org
SUMMARY:QiGong
DESCRIPTION:Een fijne stroom aan oefeningen volgens voorgeschreven patroon. \nElke maandag\, woensdag en vrijdag.
URL:https://huisvdwn.webburo.org/activiteit/qigong-2/
LOCATION:De Meeuw
CATEGORIES:Sport & beweging
ATTACH;FMTTYPE=image/jpeg:https://huisvdwn.webburo.org/wp-content/uploads/2023/10/portrait-two-female-friends-with-different-ages-outdoors-scaled.jpg
END:VEVENT
BEGIN:VEVENT
DTSTART;TZID=Europe/Amsterdam:20231103T093000
DTEND;TZID=Europe/Amsterdam:20231103T113000
DTSTAMP:20260423T154154
CREATED:20250106T102247Z
LAST-MODIFIED:20250106T102247Z
UID:12654-1699003800-1699011000@huisvdwn.webburo.org
SUMMARY:Conversatieles door Anita
DESCRIPTION:Beter leren praten en lezen: kleine groepen oefen je op een speelse manier de Nederlandse taal.
URL:https://huisvdwn.webburo.org/activiteit/conversatieles-door-anita-6/
LOCATION:De Meeuw
CATEGORIES:Info & hulp
ATTACH;FMTTYPE=image/jpeg:https://huisvdwn.webburo.org/wp-content/uploads/2023/06/DSF4300-1-3.jpg
END:VEVENT
BEGIN:VEVENT
DTSTART;TZID=Europe/Amsterdam:20231124T093000
DTEND;TZID=Europe/Amsterdam:20231124T120000
DTSTAMP:20260423T154154
CREATED:20250106T101951Z
LAST-MODIFIED:20250106T101951Z
UID:13630-1700818200-1700827200@huisvdwn.webburo.org
SUMMARY:Naailes met Nourham
DESCRIPTION:
URL:https://huisvdwn.webburo.org/activiteit/naailes-met-nourham/
LOCATION:Waterlandplein
CATEGORIES:Creatief
ATTACH;FMTTYPE=image/jpeg:https://huisvdwn.webburo.org/wp-content/uploads/2023/06/merve-sehirli-nasir-sFubXOglx7g-unsplash-scaled.jpg
END:VEVENT
BEGIN:VEVENT
DTSTART;TZID=Europe/Amsterdam:20231124T100000
DTEND;TZID=Europe/Amsterdam:20231124T103000
DTSTAMP:20260423T154154
CREATED:20250106T101951Z
LAST-MODIFIED:20250106T101951Z
UID:13280-1700820000-1700821800@huisvdwn.webburo.org
SUMMARY:Peuterdans (2-4 jr)
DESCRIPTION:Is voor kinderen van 2-4 jaar. Ik werk met thema’s en daarin verwerk ritme\, taal en rekenvormen\, ruimte gebruik\, samenwerken en natuurlijk niet te vergeten de bewegingen. Ik stimuleer de kinderen hun lichaam te ontdekken wat het al kan of nog niet kan. En probeer de bewegingen steeds meer te ontwikkelen. Door middel van muziek en liedjes leren de kinderen spelenderwijs hun taal en motoriek te ontwikkelen en fantasie speelt hier een grote rol in.
URL:https://huisvdwn.webburo.org/activiteit/peuterdans-4/
LOCATION:Huis van de Wijk De Evenaar\, Kometensingel 189\, Amsterdam\, 1033 BE
CATEGORIES:Jeugd
ATTACH;FMTTYPE=image/jpeg:https://huisvdwn.webburo.org/wp-content/uploads/2023/06/peuterdans-1-e1700150090722.jpg
END:VEVENT
BEGIN:VEVENT
DTSTART;TZID=Europe/Amsterdam:20231124T100000
DTEND;TZID=Europe/Amsterdam:20231124T110000
DTSTAMP:20260423T154154
CREATED:20250106T101951Z
LAST-MODIFIED:20250106T101951Z
UID:13634-1700820000-1700823600@huisvdwn.webburo.org
SUMMARY:Buitensport voor mannen
DESCRIPTION:Voetbal\, volleybal\, basketbal en frisbeeën. Doe lekker mee\, ter ontspanning\, gezelligheid en gezondheid. Verzamelen voor van het huis van de wijk.
URL:https://huisvdwn.webburo.org/activiteit/buitensport-voor-mannen/
LOCATION:Waterlandplein
CATEGORIES:Sport & beweging
ATTACH;FMTTYPE=image/jpeg:https://huisvdwn.webburo.org/wp-content/uploads/2023/11/gabin-vallet-J154nEkpzlQ-unsplash-scaled.jpg
ORGANIZER;CN="Gezond Noord (Doras)%2C Jago Bunnik":MAILTO:gezondnoord@doras.nl
END:VEVENT
BEGIN:VEVENT
DTSTART;TZID=Europe/Amsterdam:20231124T104500
DTEND;TZID=Europe/Amsterdam:20231124T111500
DTSTAMP:20260423T154154
CREATED:20250106T101951Z
LAST-MODIFIED:20250106T101951Z
UID:13281-1700822700-1700824500@huisvdwn.webburo.org
SUMMARY:Peuterdans (2-4 jr)
DESCRIPTION:Is voor kinderen van 2-4 jaar. Ik werk met thema’s en daarin verwerk ritme\, taal en rekenvormen\, ruimte gebruik\, samenwerken en natuurlijk niet te vergeten de bewegingen. Ik stimuleer de kinderen hun lichaam te ontdekken wat het al kan of nog niet kan. En probeer de bewegingen steeds meer te ontwikkelen. Door middel van muziek en liedjes leren de kinderen spelenderwijs hun taal en motoriek te ontwikkelen en fantasie speelt hier een grote rol in.
URL:https://huisvdwn.webburo.org/activiteit/peuterdans-2-4-jr/
LOCATION:Huis van de Wijk De Evenaar\, Kometensingel 189\, Amsterdam\, 1033 BE
CATEGORIES:Jeugd
ATTACH;FMTTYPE=image/jpeg:https://huisvdwn.webburo.org/wp-content/uploads/2023/06/peuterdans-1-e1700150090722.jpg
END:VEVENT
BEGIN:VEVENT
DTSTART;TZID=Europe/Amsterdam:20231124T110000
DTEND;TZID=Europe/Amsterdam:20231124T114500
DTSTAMP:20260423T154154
CREATED:20250106T101951Z
LAST-MODIFIED:20250106T101951Z
UID:13633-1700823600-1700826300@huisvdwn.webburo.org
SUMMARY:Gymnastiekles 65+
DESCRIPTION:
URL:https://huisvdwn.webburo.org/activiteit/gymnastiekles-65-2/
LOCATION:Waterlandplein
CATEGORIES:Sport & beweging
ATTACH;FMTTYPE=image/jpeg:https://huisvdwn.webburo.org/wp-content/uploads/2023/10/old-man-stretching-nature-scaled.jpg
ORGANIZER;CN="MbvO":MAILTO:info@mbvoamsterdam.nl
END:VEVENT
BEGIN:VEVENT
DTSTART;TZID=Europe/Amsterdam:20231124T110000
DTEND;TZID=Europe/Amsterdam:20231124T150000
DTSTAMP:20260423T154154
CREATED:20250106T101951Z
LAST-MODIFIED:20250106T101951Z
UID:13851-1700823600-1700838000@huisvdwn.webburo.org
SUMMARY:Rommelmarkt de Banne
DESCRIPTION:Elke laatste vrijdag van de maand organiseren we in Huis van de Wijk de Banne een rommelmarkt voor buurts die graag diverse tweedehandse spullen willen verkopen. Voor meer informatie neem contact op met Marianne.
URL:https://huisvdwn.webburo.org/activiteit/rommelmarkt-de-banne/
LOCATION:De Banne
CATEGORIES:Overig
ATTACH;FMTTYPE=image/jpeg:https://huisvdwn.webburo.org/wp-content/uploads/2023/01/foto-Meeuwenmarkt-@deMeeuw-scaled-e1700325945390.jpg
END:VEVENT
BEGIN:VEVENT
DTSTART;TZID=Europe/Amsterdam:20240920T110000
DTEND;TZID=Europe/Amsterdam:20240920T190000
DTSTAMP:20260423T154154
CREATED:20250106T101626Z
LAST-MODIFIED:20250106T101626Z
UID:43975-1726830000-1726858800@huisvdwn.webburo.org
SUMMARY:Mahjong
DESCRIPTION:Kom Mahjong spelen in de Meeuw\nIedere vrijdagmiddag!
URL:https://huisvdwn.webburo.org/activiteit/mahjong/
LOCATION:De Meeuw
CATEGORIES:Jeugd,Ouderen,Spel & samenzijn
ATTACH;FMTTYPE=image/jpeg:https://huisvdwn.webburo.org/wp-content/uploads/2024/09/klassiek-mahjong-china.jpg
END:VEVENT
BEGIN:VEVENT
DTSTART;TZID=Europe/Amsterdam:20231124T120000
DTEND;TZID=Europe/Amsterdam:20231124T140000
DTSTAMP:20260423T154154
CREATED:20250106T101950Z
LAST-MODIFIED:20250106T101950Z
UID:13857-1700827200-1700834400@huisvdwn.webburo.org
SUMMARY:Stichting Cleopatra
DESCRIPTION:Stichting Cleopatra is een maatschappelijke organisatie dat zich inzet tegen armoede en maatschappelijke hulp verleent in Noord. In Huis van de Wijk de Banne oganiseren zij wekelijks voedseluitgifte voor hulpbehoevende mensen.
URL:https://huisvdwn.webburo.org/activiteit/stichting-cleopatra/
LOCATION:De Banne
CATEGORIES:Eten,Info & hulp
ATTACH;FMTTYPE=image/webp:https://huisvdwn.webburo.org/wp-content/uploads/2023/06/Cleopatra-1-e1700406514668.webp
END:VEVENT
BEGIN:VEVENT
DTSTART;TZID=Europe/Amsterdam:20231120T120000
DTEND;TZID=Europe/Amsterdam:20231120T200000
DTSTAMP:20260423T154154
CREATED:20250106T102141Z
LAST-MODIFIED:20250106T102141Z
UID:13741-1700481600-1700510400@huisvdwn.webburo.org
SUMMARY:Surinaamse Eettafel
DESCRIPTION:Vers gemaakte Surinaamse maaltijden door buurtbewoner Marsha!
URL:https://huisvdwn.webburo.org/activiteit/surinaamse-eettafel/
LOCATION:De Banne
CATEGORIES:Eten
ATTACH;FMTTYPE=image/jpeg:https://huisvdwn.webburo.org/wp-content/uploads/2023/11/DSC_0358-1200x800-1.jpg
END:VEVENT
END:VCALENDAR